BEGIN:VCALENDAR
VERSION:2.0
PRODID:SchoolNow
CALSCALE:GREGORIAN
BEGIN:VEVENT
UID:d08fd52a-f63e-11f0-a4eb-0eb3f9a4a2e1
DTSTAMP:20260421T141010Z
SUMMARY:Coffee & Conversation
URL;VALUE=URI:https://www.washboroschools.org/calendar/8838259/coffee-conve
 rsation
DTSTART:20260127T133000Z
DTEND:20260127T141500Z
END:VEVENT
END:VCALENDAR
