BEGIN:VCALENDAR
VERSION:2.0
PRODID:SchoolNow
CALSCALE:GREGORIAN
BEGIN:VEVENT
UID:c645f0f0-f70a-11f0-af6a-02b69fd79341
DTSTAMP:20260421T141011Z
SUMMARY:B.E.A.R. TANK
URL;VALUE=URI:https://www.washboroschools.org/calendar/8838909/b-e-a-r-tank
DTSTART:20260121T195000Z
DTEND:20260121T203000Z
END:VEVENT
END:VCALENDAR
