BEGIN:VCALENDAR
VERSION:2.0
PRODID:SchoolNow
CALSCALE:GREGORIAN
BEGIN:VEVENT
UID:c645fc08-f70a-11f0-9419-02b69fd79341
DTSTAMP:20260421T141011Z
SUMMARY:5th & 6th GR. BEGINNING BAND
URL;VALUE=URI:https://www.washboroschools.org/calendar/8838915/5th-6th-gr-b
 eginning-band
DTSTART:20260128T195500Z
DTEND:20260128T203000Z
END:VEVENT
END:VCALENDAR
