BEGIN:VCALENDAR
VERSION:2.0
PRODID:SchoolNow
CALSCALE:GREGORIAN
BEGIN:VEVENT
UID:c657bd3a-f70a-11f0-a6b2-02b69fd79341
DTSTAMP:20260421T141011Z
SUMMARY:GR. 4 CHOIR
URL;VALUE=URI:https://www.washboroschools.org/calendar/8838932/gr-4-choir
DTSTART:20260129T195500Z
DTEND:20260129T203000Z
END:VEVENT
END:VCALENDAR
