BEGIN:VCALENDAR
VERSION:2.0
PRODID:SchoolNow
CALSCALE:GREGORIAN
BEGIN:VEVENT
UID:bbec9600-f7d6-11f0-9186-0edcc865beb3
DTSTAMP:20260421T141011Z
SUMMARY:B.E.A.R. CUB TANK
URL;VALUE=URI:https://www.washboroschools.org/calendar/8839433/b-e-a-r-cub-
 tank
DTSTART:20260113T195500Z
DTEND:20260113T203000Z
END:VEVENT
END:VCALENDAR
