BEGIN:VCALENDAR
VERSION:2.0
PRODID:SchoolNow
CALSCALE:GREGORIAN
BEGIN:VEVENT
UID:b1560da0-0c5a-11f1-9f4d-0a58a9feac02
DTSTAMP:20260421T141010Z
SUMMARY:Drama Club
URL;VALUE=URI:https://www.washboroschools.org/calendar/8858223/drama-club
DTSTART:20260228T140000Z
DTEND:20260228T170000Z
END:VEVENT
END:VCALENDAR
