BEGIN:VCALENDAR
VERSION:2.0
PRODID:SchoolNow
CALSCALE:GREGORIAN
BEGIN:VEVENT
UID:2f1f1600-1683-11f1-a6d6-0a58a9feac02
DTSTAMP:20260421T141010Z
SUMMARY:READ ACROSS AMERICA
URL;VALUE=URI:https://www.washboroschools.org/calendar/8885106/read-across-
 america
DTSTART;VALUE=DATE:20260302
DTEND;VALUE=DATE:20260307
END:VEVENT
END:VCALENDAR
