BEGIN:VCALENDAR
VERSION:2.0
PRODID:SchoolNow
CALSCALE:GREGORIAN
BEGIN:VEVENT
UID:260efbd6-171c-11f1-8388-0a58a9feac02
DTSTAMP:20260421T141011Z
SUMMARY:Gr. 6 Pillow Polo
URL;VALUE=URI:https://www.washboroschools.org/calendar/8887097/gr-6-pillow-
 polo
DTSTART:20260320T150000Z
DTEND:20260320T160000Z
END:VEVENT
END:VCALENDAR
