BEGIN:VCALENDAR
VERSION:2.0
PRODID:SchoolNow
CALSCALE:GREGORIAN
BEGIN:VEVENT
UID:11ca7526-18b4-11f1-be68-0a58a9feac02
DTSTAMP:20260421T141010Z
SUMMARY:Gr. 1 & 2 Sensory Family Fitness Night@ T
URL;VALUE=URI:https://www.washboroschools.org/calendar/8893254/gr-1-2-senso
 ry-family-fitness-night-t
DTSTART:20260331T220000Z
DTEND:20260331T230000Z
END:VEVENT
END:VCALENDAR
