BEGIN:VCALENDAR
VERSION:2.0
PRODID:SchoolNow
CALSCALE:GREGORIAN
BEGIN:VEVENT
UID:072162ac-1980-11f1-8a7c-0211ebe27895
DTSTAMP:20260421T141010Z
SUMMARY:Photos with the Easter Bunny @ T
URL;VALUE=URI:https://www.washboroschools.org/calendar/8896295/photos-with-
 the-easter-bunny-t
DTSTART:20260316T190000Z
DTEND:20260316T210000Z
END:VEVENT
END:VCALENDAR
