BEGIN:VCALENDAR
VERSION:2.0
PRODID:SchoolNow
CALSCALE:GREGORIAN
BEGIN:VEVENT
UID:e819483c-1be3-11f1-acf4-0a58a9feac02
DTSTAMP:20260421T141011Z
SUMMARY:BOE Meeting
URL;VALUE=URI:https://www.washboroschools.org/calendar/8904302/boe-meeting
DTSTART:20260324T230000Z
DTEND:20260325T000000Z
END:VEVENT
END:VCALENDAR
