BEGIN:VCALENDAR
VERSION:2.0
PRODID:SchoolNow
CALSCALE:GREGORIAN
BEGIN:VEVENT
UID:e81e5d68-1be3-11f1-b804-0a58a9feac02
DTSTAMP:20260421T141011Z
SUMMARY:Drama Club
URL;VALUE=URI:https://www.washboroschools.org/calendar/8904303/drama-club
DTSTART:20260303T194500Z
DTEND:20260303T210000Z
END:VEVENT
END:VCALENDAR
