BEGIN:VCALENDAR
VERSION:2.0
PRODID:SchoolNow
CALSCALE:GREGORIAN
BEGIN:VEVENT
UID:e81e61aa-1be3-11f1-bd19-0a58a9feac02
DTSTAMP:20260421T141011Z
SUMMARY:Drama Club
URL;VALUE=URI:https://www.washboroschools.org/calendar/8904304/drama-club
DTSTART:20260305T194500Z
DTEND:20260305T210000Z
END:VEVENT
END:VCALENDAR
