BEGIN:VCALENDAR
VERSION:2.0
PRODID:SchoolNow
CALSCALE:GREGORIAN
BEGIN:VEVENT
UID:e81e651a-1be3-11f1-8912-0a58a9feac02
DTSTAMP:20260421T141011Z
SUMMARY:Drama Club
URL;VALUE=URI:https://www.washboroschools.org/calendar/8904307/drama-club
DTSTART:20260317T184500Z
DTEND:20260317T200000Z
END:VEVENT
END:VCALENDAR
