BEGIN:VCALENDAR
VERSION:2.0
PRODID:SchoolNow
CALSCALE:GREGORIAN
BEGIN:VEVENT
UID:e81e6dee-1be3-11f1-85c7-0a58a9feac02
DTSTAMP:20260421T141011Z
SUMMARY:Drama Club
URL;VALUE=URI:https://www.washboroschools.org/calendar/8904315/drama-club
DTSTART:20260421T184500Z
DTEND:20260421T200000Z
END:VEVENT
END:VCALENDAR
