BEGIN:VCALENDAR
VERSION:2.0
PRODID:SchoolNow
CALSCALE:GREGORIAN
BEGIN:VEVENT
UID:e81e6fe2-1be3-11f1-b3e3-0a58a9feac02
DTSTAMP:20260421T141011Z
SUMMARY:Drama Club
URL;VALUE=URI:https://www.washboroschools.org/calendar/8904317/drama-club
DTSTART:20260428T184500Z
DTEND:20260428T200000Z
END:VEVENT
END:VCALENDAR
