BEGIN:VCALENDAR
VERSION:2.0
PRODID:SchoolNow
CALSCALE:GREGORIAN
BEGIN:VEVENT
UID:e81e70d2-1be3-11f1-85de-0a58a9feac02
DTSTAMP:20260421T141011Z
SUMMARY:DRAMA CLUB DRESS REHEARSAL
URL;VALUE=URI:https://www.washboroschools.org/calendar/8904318/drama-club-d
 ress-rehearsal
DTSTART:20260501T133000Z
DTEND:20260501T144500Z
END:VEVENT
END:VCALENDAR
