BEGIN:VCALENDAR
VERSION:2.0
PRODID:SchoolNow
CALSCALE:GREGORIAN
BEGIN:VEVENT
UID:c66a4e78-2473-11f1-901b-0a58a9feac02
DTSTAMP:20260421T141010Z
SUMMARY:KNMBG BUTTERFLY RELEASE
LOCATION:OUTSIDE/GYM (RAIN)
URL;VALUE=URI:https://www.washboroschools.org/calendar/8932709/knmbg-butter
 fly-release
DTSTART:20260627T200000Z
DTEND:20260627T220000Z
END:VEVENT
END:VCALENDAR
