BEGIN:VCALENDAR
VERSION:2.0
PRODID:SchoolNow
CALSCALE:GREGORIAN
BEGIN:VEVENT
UID:a4d3eabe-270a-11f1-95f4-0a58a9feac02
DTSTAMP:20260421T141010Z
SUMMARY:PTO Spring Book Fair @ T
URL;VALUE=URI:https://www.washboroschools.org/calendar/8940272/pto-spring-b
 ook-fair-t
DTSTART;VALUE=DATE:20260430
DTEND;VALUE=DATE:20260502
END:VEVENT
END:VCALENDAR
