BEGIN:VCALENDAR
VERSION:2.0
PRODID:SchoolNow
CALSCALE:GREGORIAN
BEGIN:VEVENT
UID:a4d3eec4-270a-11f1-8c1d-0a58a9feac02
DTSTAMP:20260421T141011Z
SUMMARY:FAMILY NIGHT PTO Spring Book Fair @ M
URL;VALUE=URI:https://www.washboroschools.org/calendar/8940273/family-night
 -pto-spring-book-fair-m
DTSTART:20260429T220000Z
DTEND:20260429T233000Z
END:VEVENT
END:VCALENDAR
