BEGIN:VCALENDAR
VERSION:2.0
PRODID:SchoolNow
CALSCALE:GREGORIAN
BEGIN:VEVENT
UID:a4d3f068-270a-11f1-a93f-0a58a9feac02
DTSTAMP:20260421T141010Z
SUMMARY:PTO Spring Book Fair @ M
URL;VALUE=URI:https://www.washboroschools.org/calendar/8940274/pto-spring-b
 ook-fair-m
DTSTART;VALUE=DATE:20260427
DTEND;VALUE=DATE:20260429
END:VEVENT
END:VCALENDAR
