BEGIN:VCALENDAR
VERSION:2.0
PRODID:SchoolNow
CALSCALE:GREGORIAN
BEGIN:VEVENT
UID:9d61dc16-27a3-11f1-a2f4-0affd2c082bb
DTSTAMP:20260421T141010Z
SUMMARY:Coffee & Conversation w/Superintendent
URL;VALUE=URI:https://www.washboroschools.org/calendar/8942168/coffee-conve
 rsation-w-superintendent
DTSTART:20260424T123000Z
DTEND:20260424T130000Z
END:VEVENT
END:VCALENDAR
