BEGIN:VCALENDAR
VERSION:2.0
PRODID:SchoolNow
CALSCALE:GREGORIAN
BEGIN:VEVENT
UID:9a1c7cc2-27d6-11f1-bc29-0a58a9feac02
DTSTAMP:20260421T141010Z
SUMMARY:SEPAC Meeting
URL;VALUE=URI:https://www.washboroschools.org/calendar/8943079/sepac-meetin
 g
DTSTART:20260520T220000Z
DTEND:20260520T230000Z
END:VEVENT
END:VCALENDAR
