BEGIN:VCALENDAR
VERSION:2.0
PRODID:SchoolNow
CALSCALE:GREGORIAN
BEGIN:VEVENT
UID:5eafb53e-2c6b-11f1-80ff-0a58a9feac02
DTSTAMP:20260421T141010Z
SUMMARY:Gr. 4 Egg Drop
URL;VALUE=URI:https://www.washboroschools.org/calendar/8957986/gr-4-egg-dro
 p
DTSTART:20260529T130000Z
DTEND:20260529T140000Z
END:VEVENT
END:VCALENDAR
