BEGIN:VCALENDAR
VERSION:2.0
PRODID:SchoolNow
CALSCALE:GREGORIAN
BEGIN:VEVENT
UID:167e1386-39c3-11f1-97ec-0a58a9feac02
DTSTAMP:20260421T141010Z
SUMMARY:GR. 6 PICNIC
URL;VALUE=URI:https://www.washboroschools.org/calendar/8998290/gr-6-picnic
DTSTART;VALUE=DATE:20260616
DTEND;VALUE=DATE:20260617
END:VEVENT
END:VCALENDAR
