BEGIN:VCALENDAR
VERSION:2.0
PRODID:SchoolNow
CALSCALE:GREGORIAN
BEGIN:VEVENT
UID:16ccd00c-39c3-11f1-9838-0a58a9feac02
DTSTAMP:20260421T141011Z
SUMMARY:GR. 6 GRADUATION
URL;VALUE=URI:https://www.washboroschools.org/calendar/8998291/gr-6-graduat
 ion
DTSTART:20260615T220000Z
DTEND:20260615T233000Z
END:VEVENT
END:VCALENDAR
