BEGIN:VCALENDAR
VERSION:2.0
PRODID:SchoolNow
CALSCALE:GREGORIAN
BEGIN:VEVENT
UID:d6c68524-3cf2-11f1-b8ea-0a58a9feac02
DTSTAMP:20260421T141010Z
SUMMARY:GR. K-2  FIELD DAY
URL;VALUE=URI:https://www.washboroschools.org/calendar/9007515/gr-k-2-field
 -day
DTSTART;VALUE=DATE:20260522
DTEND;VALUE=DATE:20260523
END:VEVENT
END:VCALENDAR
