BEGIN:VCALENDAR
VERSION:2.0
PRODID:SchoolNow
CALSCALE:GREGORIAN
BEGIN:VEVENT
UID:d6c689de-3cf2-11f1-b3ad-0a58a9feac02
DTSTAMP:20260421T141010Z
SUMMARY:GR. K-2 RAIN DATE FIELD DAY
URL;VALUE=URI:https://www.washboroschools.org/calendar/9007516/gr-k-2-rain-
 date-field-day
DTSTART;VALUE=DATE:20260609
DTEND;VALUE=DATE:20260610
END:VEVENT
END:VCALENDAR
