BEGIN:VCALENDAR
VERSION:2.0
PRODID:SchoolNow
CALSCALE:GREGORIAN
BEGIN:VEVENT
UID:d6c68b46-3cf2-11f1-acfc-0a58a9feac02
DTSTAMP:20260421T141010Z
SUMMARY:RAIN DATE - SPRING FAIR
URL;VALUE=URI:https://www.washboroschools.org/calendar/9007517/rain-date-sp
 ring-fair
DTSTART:20260605T200000Z
DTEND:20260605T230000Z
END:VEVENT
END:VCALENDAR
