BEGIN:VCALENDAR
VERSION:2.0
PRODID:SchoolNow
CALSCALE:GREGORIAN
BEGIN:VEVENT
UID:d6c68ca4-3cf2-11f1-9632-0a58a9feac02
DTSTAMP:20260421T141010Z
SUMMARY:GR. 6 GREEK FEST
URL;VALUE=URI:https://www.washboroschools.org/calendar/9007518/gr-6-greek-f
 est
DTSTART:20260515T124500Z
DTEND:20260515T143000Z
END:VEVENT
END:VCALENDAR
