BEGIN:VCALENDAR
VERSION:2.0
PRODID:SchoolNow
CALSCALE:GREGORIAN
BEGIN:VEVENT
UID:d6c68e98-3cf2-11f1-be10-0a58a9feac02
DTSTAMP:20260421T141010Z
SUMMARY:SPRING CONCERT - BEG. BAND\, HONORS BAND\, GR. 4 CHOIR
URL;VALUE=URI:https://www.washboroschools.org/calendar/9007519/spring-conce
 rt-beg-band-honors-band-gr-4-choir
DTSTART:20260604T220000Z
DTEND:20260604T230000Z
END:VEVENT
END:VCALENDAR
