BEGIN:VCALENDAR
VERSION:2.0
PRODID:SchoolNow
CALSCALE:GREGORIAN
BEGIN:VEVENT
UID:cef2b96e-3d8b-11f1-a1d6-0a58a9feac02
DTSTAMP:20260421T141010Z
SUMMARY:PRESCHOOL WATER DAY
URL;VALUE=URI:https://www.washboroschools.org/calendar/9009102/preschool-wa
 ter-day
DTSTART;VALUE=DATE:20260610
DTEND;VALUE=DATE:20260611
END:VEVENT
END:VCALENDAR
